BEGIN:VCALENDAR
VERSION:2.0
PRODID:-//CEEI Elche//EmprenemJunts//ES
BEGIN:VEVENT
UID:Evento_2932
DTSTAMP:20111130T125600Z
DTSTART:20111201T193000Z
DTEND:20111130T230000Z
SUMMARY:ALFIL V Edición / Premios 2011 #
DESCRIPTION:Terciario Avanzado Comunidad Valenciana.
LOCATION:03320 Elche (Alicante)
URL:https://ceeielche.emprenemjunts.es/?op=14&n=2932
END:VEVENT
END:VCALENDAR
