BEGIN:VCALENDAR
VERSION:2.0
PRODID:-//CEEI Elche//EmprenemJunts//ES
BEGIN:VEVENT
UID:Evento_2900
DTSTAMP:20111117T123700Z
DTSTART:20111125T080000Z
DTEND:20111125T171500Z
SUMMARY:Jornada: \"Las TIC en la Gestión por Procesos\" - Santa Pola - 25 noviembre 2011 #
DESCRIPTION:Baluarte del Duque Castillo Fortaleza de Santa Pola.
LOCATION:Santa Pola
URL:https://ceeielche.emprenemjunts.es/?op=14&n=2900
END:VEVENT
END:VCALENDAR
