BEGIN:VCALENDAR
VERSION:2.0
PRODID:-//Management//EmprenemJunts//ES
BEGIN:VEVENT
UID:Evento_2483
DTSTAMP:20110823T114300Z
DTSTART:20110926T070000Z
DTEND:20110927T120000Z
SUMMARY:XIV Curso de Pensamiento Contemporáneo
DESCRIPTION:Gestión de la diversidad en la empresa: talento, innovación y resultados
LOCATION:Catarroja (Valencia)
URL:https://management.emprenemjunts.es/?op=14&n=2483
END:VEVENT
END:VCALENDAR
