BEGIN:VCALENDAR
VERSION:2.0
PRODID:-//Emprenemjunts//EmprenemJunts//ES
BEGIN:VEVENT
UID:Evento_2462
DTSTAMP:20110722T105500Z
DTSTART:20110922T083000Z
DTEND:20110921T220000Z
SUMMARY:Seminario Taller de Vigilancia Tecnológica: cómo hacerla accesible a la pyme
DESCRIPTION:
LOCATION:46010 Valencia
URL:https://www.emprenemjunts.es/?op=14&n=2462
END:VEVENT
END:VCALENDAR
