BEGIN:VCALENDAR
VERSION:2.0
PRODID:-//CEEI Alcoy//EmprenemJunts//ES
BEGIN:VEVENT
UID:Evento_2349
DTSTAMP:20110613T171800Z
DTSTART:20110701T160000Z
DTEND:20110701T200000Z
SUMMARY:II encuentro de emprendedores de La Safor
DESCRIPTION:
LOCATION:Gandia
URL:https://ceeialcoi.emprenemjunts.es/?op=14&n=2349
END:VEVENT
END:VCALENDAR
