BEGIN:VCALENDAR
VERSION:2.0
PRODID:-//Desarrollo Local//EmprenemJunts//ES
BEGIN:VEVENT
UID:Evento_2308
DTSTAMP:20110602T150000Z
DTSTART:20110614T143000Z
DTEND:20110614T190000Z
SUMMARY:Foro Artesanía CV
DESCRIPTION:
LOCATION:Gandia
URL:https://desarrollolocal.emprenemjunts.es/?op=14&n=2308
END:VEVENT
END:VCALENDAR
