BEGIN:VCALENDAR
VERSION:2.0
PRODID:-//Desarrollo Local//EmprenemJunts//ES
BEGIN:VEVENT
UID:Evento_2284
DTSTAMP:20110530T091500Z
DTSTART:20110603T070000Z
DTEND:20110603T170000Z
SUMMARY:IV Jornada Técnica del Centro de Desarrollo, Información y Promoción Rural del Alto Palancia. Diputación de Castellón
DESCRIPTION:Jornada técnica de especialización en cereza
LOCATION:Caudiel
URL:https://desarrollolocal.emprenemjunts.es/?op=14&n=2284
END:VEVENT
END:VCALENDAR
