BEGIN:VCALENDAR
VERSION:2.0
PRODID:-//CEEI Valencia//EmprenemJunts//ES
BEGIN:VEVENT
UID:Evento_22542
DTSTAMP:20231023T141301Z
DTSTART:20231027T160000Z
DTEND:20231027T180000Z
SUMMARY:MeetupAVRE
DESCRIPTION:
LOCATION:Valencia (Valencia)
URL:https://ceeivalencia.emprenemjunts.es/?op=14&n=22542
GEO:39.458881;-0.337975
END:VEVENT
END:VCALENDAR
