BEGIN:VCALENDAR
VERSION:2.0
PRODID:-//Internacional//EmprenemJunts//ES
BEGIN:VEVENT
UID:Evento_2246
DTSTAMP:20110518T080900Z
DTSTART:20110525T160000Z
DTEND:20110525T190000Z
SUMMARY:Encuentro Emprenemjunts: ¡¡Internacionalizar tu empresa es fácil ... si sabes cómo!! 25 de mayo
DESCRIPTION:Encuentro EmprenemJunts - CEEI Elche
LOCATION:Elche 
URL:https://internacional.emprenemjunts.es/?op=14&n=2246
END:VEVENT
END:VCALENDAR
