BEGIN:VCALENDAR
VERSION:2.0
PRODID:-//CEEI Alcoy//EmprenemJunts//ES
BEGIN:VEVENT
UID:Evento_2202
DTSTAMP:20110512T090800Z
DTSTART:20110523T150000Z
DTEND:20110523T190000Z
SUMMARY:Jornada Gestión del talento y mejora de la empleabilidad
DESCRIPTION:
LOCATION:Alicante
URL:https://ceeialcoi.emprenemjunts.es/?op=14&n=2202
END:VEVENT
END:VCALENDAR
