BEGIN:VCALENDAR
VERSION:2.0
PRODID:-//CEEI Alcoy//EmprenemJunts//ES
BEGIN:VEVENT
UID:Evento_2172
DTSTAMP:20110509T075600Z
DTSTART:20110526T063000Z
DTEND:20110526T130000Z
SUMMARY:Enrédate Alcoy 2011
DESCRIPTION:
LOCATION:Alcoy
URL:https://ceeialcoi.emprenemjunts.es/?op=14&n=2172
END:VEVENT
END:VCALENDAR
