BEGIN:VCALENDAR
VERSION:2.0
PRODID:-//Desarrollo Local//EmprenemJunts//ES
BEGIN:VEVENT
UID:Evento_2113
DTSTAMP:20110418T153600Z
DTSTART:20110509T070000Z
DTEND:20110509T180000Z
SUMMARY:Encuentro Enogastronomía-Altea
DESCRIPTION:La jornada tendrá lugar en Altea (Alicante)
LOCATION:Altea
URL:https://desarrollolocal.emprenemjunts.es/?op=14&n=2113
END:VEVENT
END:VCALENDAR
