BEGIN:VCALENDAR
VERSION:2.0
PRODID:-//Desarrollo Local//EmprenemJunts//ES
BEGIN:VEVENT
UID:Evento_2107
DTSTAMP:20110415T120100Z
DTSTART:20110711T070000Z
DTEND:20110714T120000Z
SUMMARY:Presente y futuro de las políticas y los profesionales en desarrollo local
DESCRIPTION:Esta actividad se desarrollará en la sede de la UA en Villena
LOCATION:Villena
URL:https://desarrollolocal.emprenemjunts.es/?op=14&n=2107
END:VEVENT
END:VCALENDAR
