BEGIN:VCALENDAR
VERSION:2.0
PRODID:-//CEEI Alcoy//EmprenemJunts//ES
BEGIN:VEVENT
UID:Evento_2077
DTSTAMP:20110411T065000Z
DTSTART:20110414T074500Z
DTEND:20110414T120000Z
SUMMARY:Jornada empresarial: El éxito ante la crisis
DESCRIPTION:
LOCATION:03801-Alcoi
URL:https://ceeialcoi.emprenemjunts.es/?op=14&n=2077
END:VEVENT
END:VCALENDAR
