BEGIN:VCALENDAR
VERSION:2.0
PRODID:-//Desarrollo Local//EmprenemJunts//ES
BEGIN:VEVENT
UID:Evento_2053
DTSTAMP:20110404T143200Z
DTSTART:20110409T083000Z
DTEND:20110410T180000Z
SUMMARY:Feria Serraltur 2011
DESCRIPTION:Feria Gastronómica, Turística y Comercial de la Comarca La Serranía
LOCATION:
URL:https://desarrollolocal.emprenemjunts.es/?op=14&n=2053
END:VEVENT
END:VCALENDAR
