BEGIN:VCALENDAR
VERSION:2.0
PRODID:-//CEEI Castellón//EmprenemJunts//ES
BEGIN:VEVENT
UID:Evento_2019
DTSTAMP:20110329T122500Z
DTSTART:20110413T083000Z
DTEND:20110413T120000Z
SUMMARY:Jornada:\"Oportunidades de negocio en China\"

DESCRIPTION:
LOCATION:12003 CastellÃ³n
URL:https://ceeicastellon.emprenemjunts.es/?op=14&n=2019
END:VEVENT
END:VCALENDAR
