BEGIN:VCALENDAR
VERSION:2.0
PRODID:-//Nacional//EmprenemJunts//ES
BEGIN:VEVENT
UID:Evento_1989
DTSTAMP:20110324T102600Z
DTSTART:20110511T080000Z
DTEND:20110512T170000Z
SUMMARY:Feria IMEX
DESCRIPTION:Feria de Negocio Internacional y Comercio Exterior 
LOCATION:Madrid
URL:https://emprenderycrecer.emprenemjunts.es/?op=14&n=1989
END:VEVENT
END:VCALENDAR
