BEGIN:VCALENDAR
VERSION:2.0
PRODID:-//CEEI Valencia//EmprenemJunts//ES
BEGIN:VEVENT
UID:Evento_1934
DTSTAMP:20110310T172600Z
DTSTART:20110404T074500Z
DTEND:20110404T123000Z
SUMMARY:Jornada sobre Fondos Europeos: Una puerta de financiación para la Comunitat


DESCRIPTION:
LOCATION:Valencia
URL:https://ceeivalencia.emprenemjunts.es/?op=14&n=1934
END:VEVENT
END:VCALENDAR
