BEGIN:VCALENDAR
VERSION:2.0
PRODID:-//CEEI Elche//EmprenemJunts//ES
BEGIN:VEVENT
UID:Evento_1901
DTSTAMP:20110303T102000Z
DTSTART:20110310T090000Z
DTEND:20110310T160000Z
SUMMARY:XVI Jornadas de Motivación Empresarial. Alicante.
DESCRIPTION:Fundeun
LOCATION:Alicante
URL:https://ceeielche.emprenemjunts.es/?op=14&n=1901
END:VEVENT
END:VCALENDAR
