BEGIN:VCALENDAR
VERSION:2.0
PRODID:-//CEEI Elche//EmprenemJunts//ES
BEGIN:VEVENT
UID:Evento_1900
DTSTAMP:20110303T101700Z
DTSTART:20110309T083000Z
DTEND:20110309T170000Z
SUMMARY:XVI Jornadas de Motivación Empresarial. Alicante.
DESCRIPTION:Fundeun
LOCATION:Alicante
URL:https://ceeielche.emprenemjunts.es/?op=14&n=1900
END:VEVENT
END:VCALENDAR
