BEGIN:VCALENDAR
VERSION:2.0
PRODID:-//Internacional//EmprenemJunts//ES
BEGIN:VEVENT
UID:Evento_1899
DTSTAMP:20110303T082400Z
DTSTART:20110324T070000Z
DTEND:20110325T190000Z
SUMMARY:Se celebra en Lima el Global Alumni Forum 2011 dedicado al Emprendedurismo e Innovación en América Latina
DESCRIPTION:El evento forma parte de un ciclo de conferencias que se han celebrado antes en México DF, Cartagena de Indias, Madrid y que este año se celebrará también en Como (Italia) 
LOCATION:Lima 
URL:https://internacional.emprenemjunts.es/?op=14&n=1899
END:VEVENT
END:VCALENDAR
