BEGIN:VCALENDAR
VERSION:2.0
PRODID:-//CEEI Elche//EmprenemJunts//ES
BEGIN:VEVENT
UID:Evento_1893
DTSTAMP:20110302T122700Z
DTSTART:20110308T080000Z
DTEND:20110308T181500Z
SUMMARY:XVI Jornadas de Motivación Empresarial. Alicante.
DESCRIPTION:Fundeun.
LOCATION:Alicante
URL:https://ceeielche.emprenemjunts.es/?op=14&n=1893
END:VEVENT
END:VCALENDAR
