BEGIN:VCALENDAR
VERSION:2.0
PRODID:-//CEEI Valencia//EmprenemJunts//ES
BEGIN:VEVENT
UID:Evento_17020
DTSTAMP:20200516T085407Z
DTSTART:20200522T150000Z
DTEND:20200524T190000Z
SUMMARY:AVRE Game Jam: maratón para la creación de videojuegos
DESCRIPTION:Primera Game Jam Virtual realizada en España
LOCATION:Los matriculados recibirán el link de invitación
URL:https://ceeivalencia.emprenemjunts.es/?op=14&n=17020
END:VEVENT
END:VCALENDAR
