BEGIN:VCALENDAR
VERSION:2.0
PRODID:-//CEEI Elche//EmprenemJunts//ES
BEGIN:VEVENT
UID:Evento_1671
DTSTAMP:20101202T110400Z
DTSTART:20101214T143000Z
DTEND:20101214T160000Z
SUMMARY:Jornada \"Fidelización: Una fuente de innovación en el Comercio Local\". Catral
DESCRIPTION:Encuentro EmprenemJunts
LOCATION:Catral
URL:https://ceeielche.emprenemjunts.es/?op=14&n=1671
END:VEVENT
END:VCALENDAR
