BEGIN:VCALENDAR
VERSION:2.0
PRODID:-//CEEI Alcoy//EmprenemJunts//ES
BEGIN:VEVENT
UID:Evento_1642
DTSTAMP:20101124T134000Z
DTSTART:20101216T080000Z
DTEND:20101217T130000Z
SUMMARY:I Jornadas de Desarrollo Local
DESCRIPTION:Primer día de las jornadas que tendrán lugar en Valencia
LOCATION:Valencia
URL:https://ceeialcoi.emprenemjunts.es/?op=14&n=1642
END:VEVENT
END:VCALENDAR
