BEGIN:VCALENDAR
VERSION:2.0
PRODID:-//CEEI Valencia//EmprenemJunts//ES
BEGIN:VEVENT
UID:Evento_1616
DTSTAMP:20101116T111400Z
DTSTART:20101121T230000Z
DTEND:20101121T230000Z
SUMMARY:\"El impacto de los estándares FERRMED y del Corredor Mediteráneo en la Comunitat Valenciana\"

DESCRIPTION:
LOCATION:Valencia
URL:https://ceeivalencia.emprenemjunts.es/?op=14&n=1616
END:VEVENT
END:VCALENDAR
