BEGIN:VCALENDAR
VERSION:2.0
PRODID:-//CEEI Alcoy//EmprenemJunts//ES
BEGIN:VEVENT
UID:Evento_1615
DTSTAMP:20101115T152700Z
DTSTART:20101126T080000Z
DTEND:20101126T160000Z
SUMMARY:Encuentro Emprenent Junts 2010
DESCRIPTION:La jornada tiene como objetivo reconocer el papel de los emprendedores de la Marina Alta
LOCATION:03700-Dénia (Alicante)
URL:https://ceeialcoi.emprenemjunts.es/?op=14&n=1615
END:VEVENT
END:VCALENDAR
