BEGIN:VCALENDAR
VERSION:2.0
PRODID:-//CEEI Valencia//EmprenemJunts//ES
BEGIN:VEVENT
UID:Evento_16066
DTSTAMP:20191027T205848Z
DTSTART:20191123T083000Z
DTEND:20191123T193000Z
SUMMARY:Virtual Reality Day 2019
DESCRIPTION:Experimenta y comprende cómo la Realidad Virtual, Aumentada y Mixta van cambiar tu vida
LOCATION:Valencia (Valencia)
URL:https://ceeivalencia.emprenemjunts.es/?op=14&n=16066
GEO:39.458679;-0.338276
END:VEVENT
END:VCALENDAR
