BEGIN:VCALENDAR
VERSION:2.0
PRODID:-//CEEI Elche//EmprenemJunts//ES
BEGIN:VEVENT
UID:Evento_1606
DTSTAMP:20101110T070400Z
DTSTART:20101118T143000Z
DTEND:20101118T160000Z
SUMMARY:Jornada. \"Fidelización: Fuente de innovación para el Comercio Local\". Callosa de Segura.
DESCRIPTION:Encuentro EmprenemJunts
LOCATION:Callosa de Segura
URL:https://ceeielche.emprenemjunts.es/?op=14&n=1606
END:VEVENT
END:VCALENDAR
