BEGIN:VCALENDAR
VERSION:2.0
PRODID:-//CEEI Elche//EmprenemJunts//ES
BEGIN:VEVENT
UID:Evento_1604
DTSTAMP:20101109T112800Z
DTSTART:20101125T200000Z
DTEND:20101125T211500Z
SUMMARY:Jornada \"Fidelización: Fuente de innovación en el Comercio Local\". Almoradí.
DESCRIPTION:Encuentro EmprenemJunts.
LOCATION:Almoradí
URL:https://ceeielche.emprenemjunts.es/?op=14&n=1604
END:VEVENT
END:VCALENDAR
