BEGIN:VCALENDAR
VERSION:2.0
PRODID:-//CEEI Elche//EmprenemJunts//ES
BEGIN:VEVENT
UID:Evento_1601
DTSTAMP:20101109T094000Z
DTSTART:20101115T150000Z
DTEND:20101115T180000Z
SUMMARY:Seminario sobre \"Nuevas actividades empresariales\". Petrer.
DESCRIPTION:Instituto de Enseñanza Secundaria \"LA CANAL\".
LOCATION:Petrer
URL:https://ceeielche.emprenemjunts.es/?op=14&n=1601
END:VEVENT
END:VCALENDAR
