BEGIN:VCALENDAR
VERSION:2.0
PRODID:-//CEEI Valencia//EmprenemJunts//ES
BEGIN:VEVENT
UID:Evento_1599
DTSTAMP:20101108T163800Z
DTSTART:20101118T153000Z
DTEND:20101118T183000Z
SUMMARY:Novedades en la financiación para pymes
 
DESCRIPTION:Sesión de Trabajo del Área Financiera y de Gestión del COEV
LOCATION:Valencia
URL:https://ceeivalencia.emprenemjunts.es/?op=14&n=1599
END:VEVENT
END:VCALENDAR
