BEGIN:VCALENDAR
VERSION:2.0
PRODID:-//CEEI Valencia//EmprenemJunts//ES
BEGIN:VEVENT
UID:Evento_1596
DTSTAMP:20101108T114800Z
DTSTART:20101116T093000Z
DTEND:20101116T110000Z
SUMMARY:Jornada: Instrumentos para la financiación de la innovación de la pyme valenciana

DESCRIPTION:
LOCATION:Valencia
URL:https://ceeivalencia.emprenemjunts.es/?op=14&n=1596
END:VEVENT
END:VCALENDAR
