BEGIN:VCALENDAR
VERSION:2.0
PRODID:-//CEEI Valencia//EmprenemJunts//ES
BEGIN:VEVENT
UID:Evento_1530
DTSTAMP:20101018T105900Z
DTSTART:20101028T170000Z
DTEND:20101027T220000Z
SUMMARY:Jornada: Qué es y para qué sirve el interim management (contratación temporal de un directivo)
DESCRIPTION:Ciclo: Soluciones clave en momentos críticos
LOCATION:Valencia
URL:https://ceeivalencia.emprenemjunts.es/?op=14&n=1530
END:VEVENT
END:VCALENDAR
