BEGIN:VCALENDAR
VERSION:2.0
PRODID:-//CEEI Valencia//EmprenemJunts//ES
BEGIN:VEVENT
UID:Evento_1523
DTSTAMP:20101015T073700Z
DTSTART:20101027T073000Z
DTEND:20101027T120000Z
SUMMARY:Jornada Olocau Emprende: Oportunidades de Negocio en Comercio, Turismo y Medio Ambiente
DESCRIPTION:
LOCATION:Olocau
URL:https://ceeivalencia.emprenemjunts.es/?op=14&n=1523
END:VEVENT
END:VCALENDAR
