BEGIN:VCALENDAR
VERSION:2.0
PRODID:-//CEEI Elche//EmprenemJunts//ES
BEGIN:VEVENT
UID:Evento_1514
DTSTAMP:20101008T103000Z
DTSTART:20101111T200000Z
DTEND:20101111T211500Z
SUMMARY:Encuentro EmprenemJunts. Jornada \"Fidelización\"
DESCRIPTION:Una fuente de innovación en el Comercio Local.
LOCATION:Guardamar del Segura
URL:https://ceeielche.emprenemjunts.es/?op=14&n=1514
END:VEVENT
END:VCALENDAR
