BEGIN:VCALENDAR
VERSION:2.0
PRODID:-//CEEI Elche//EmprenemJunts//ES
BEGIN:VEVENT
UID:Evento_1509
DTSTAMP:20101105T150000Z
DTSTART:20101105T150000Z
DTEND:20101106T190000Z
SUMMARY:Desata Tu Potencial - 2010 - Elche
DESCRIPTION:Universidad Miguel Hernández
LOCATION:Elche
URL:https://ceeielche.emprenemjunts.es/?op=14&n=1509
END:VEVENT
END:VCALENDAR
