BEGIN:VCALENDAR
VERSION:2.0
PRODID:-//CEEI Valencia//EmprenemJunts//ES
BEGIN:VEVENT
UID:Evento_1503
DTSTAMP:20101006T160000Z
DTSTART:20101006T160000Z
DTEND:20101006T183000Z
SUMMARY:Foro de Inversión en Biotecnología para abordar la situación del sector en la CV
DESCRIPTION:
LOCATION:Valencia
URL:https://ceeivalencia.emprenemjunts.es/?op=14&n=1503
END:VEVENT
END:VCALENDAR
