BEGIN:VCALENDAR
VERSION:2.0
PRODID:-//CEEI Valencia//EmprenemJunts//ES
BEGIN:VEVENT
UID:Evento_1500
DTSTAMP:20101025T061500Z
DTSTART:20101025T061500Z
DTEND:20101026T160000Z
SUMMARY:II Congreso Mujeres en el Mundo liderando el Milenio
DESCRIPTION:
LOCATION:Valencia
URL:https://ceeivalencia.emprenemjunts.es/?op=14&n=1500
END:VEVENT
END:VCALENDAR
