BEGIN:VCALENDAR
VERSION:2.0
PRODID:-//CEEI Elche//EmprenemJunts//ES
BEGIN:VEVENT
UID:Evento_1488
DTSTAMP:20101001T070000Z
DTSTART:20101001T070000Z
DTEND:20101001T103000Z
SUMMARY:COWORKING DAY 2010
DESCRIPTION:
LOCATION:Elche
URL:https://ceeielche.emprenemjunts.es/?op=14&n=1488
END:VEVENT
END:VCALENDAR
