BEGIN:VCALENDAR
VERSION:2.0
PRODID:-//CEEI Valencia//EmprenemJunts//ES
BEGIN:VEVENT
UID:Evento_1483
DTSTAMP:20100930T073000Z
DTSTART:20100930T073000Z
DTEND:20100929T220000Z
SUMMARY:La Responsabilidad social y las empresas de inserción
DESCRIPTION:
LOCATION:Paterna (Valencia)
URL:https://ceeivalencia.emprenemjunts.es/?op=14&n=1483
END:VEVENT
END:VCALENDAR
