BEGIN:VCALENDAR
VERSION:2.0
PRODID:-//CEEI Valencia//EmprenemJunts//ES
BEGIN:VEVENT
UID:Evento_1478
DTSTAMP:20100924T073000Z
DTSTART:20100924T073000Z
DTEND:20100924T090000Z
SUMMARY:Active training personal: Superar las barreras personales
DESCRIPTION:
LOCATION:Valencia
URL:https://ceeivalencia.emprenemjunts.es/?op=14&n=1478
END:VEVENT
END:VCALENDAR
