BEGIN:VCALENDAR
VERSION:2.0
PRODID:-//CEEI Valencia//EmprenemJunts//ES
BEGIN:VEVENT
UID:Evento_14751
DTSTAMP:20190215T093708Z
DTSTART:20190220T173000Z
DTEND:20190220T190000Z
SUMMARY:Presentación oficial de la Asociación AVRE (Asociación Valenciana de Realidad Extendida)
DESCRIPTION:Para fomentar el tejido productivo en el sector de las nuevas tecnologías.
LOCATION:Valencia (Valencia)
URL:https://ceeivalencia.emprenemjunts.es/?op=14&n=14751
GEO:39.458679;-0.338276
END:VEVENT
END:VCALENDAR
