BEGIN:VCALENDAR
VERSION:2.0
PRODID:-//CEEI Valencia//EmprenemJunts//ES
BEGIN:VEVENT
UID:Evento_1472
DTSTAMP:20101007T070000Z
DTSTART:20101007T070000Z
DTEND:20101007T160000Z
SUMMARY:Curso Cómo diseñar e implantar un Plan de Igualdad de Oportunidades en la Empresa
DESCRIPTION:
LOCATION:Catarroja (Valencia)
URL:https://ceeivalencia.emprenemjunts.es/?op=14&n=1472
END:VEVENT
END:VCALENDAR
