BEGIN:VCALENDAR
VERSION:2.0
PRODID:-//CEEI Valencia//EmprenemJunts//ES
BEGIN:VEVENT
UID:Evento_1467
DTSTAMP:20100921T070000Z
DTSTART:20100921T070000Z
DTEND:20100921T160000Z
SUMMARY:Cómo diseñar e implantar un Plan de Igualdad de Oportunidades en la Empresa
DESCRIPTION:
LOCATION:Catarroja (Valencia)
URL:https://ceeivalencia.emprenemjunts.es/?op=14&n=1467
END:VEVENT
END:VCALENDAR
