BEGIN:VCALENDAR
VERSION:2.0
PRODID:-//CEEI Valencia//EmprenemJunts//ES
BEGIN:VEVENT
UID:Evento_14546
DTSTAMP:20190104T195843Z
DTSTART:20190117T173000Z
DTEND:20190117T193000Z
SUMMARY:Casos de uso prácticos de Realidad Virtual y Aumentada (Vol. 2)
DESCRIPTION:Encuentro para profesionales del sector de la Realidad Virtual, Mixta y Aumentada
LOCATION:Valencia (Valencia)
URL:https://ceeivalencia.emprenemjunts.es/?op=14&n=14546
GEO:39.458679;-0.338276
END:VEVENT
END:VCALENDAR
