BEGIN:VCALENDAR
VERSION:2.0
PRODID:-//CEEI Valencia//EmprenemJunts//ES
BEGIN:VEVENT
UID:Evento_14450
DTSTAMP:20181203T084338Z
DTSTART:20181213T170000Z
DTEND:20181213T193000Z
SUMMARY:Casos de uso prácticos en XR
DESCRIPTION:En este \"Meetup\" comentaremos varios casos de uso prácticos con Realidad Virtual, Mixta o Aumentada.
LOCATION:Valencia (Valencia)
URL:https://ceeivalencia.emprenemjunts.es/?op=14&n=14450
GEO:39.458679;-0.338276
END:VEVENT
END:VCALENDAR
