BEGIN:VCALENDAR
VERSION:2.0
PRODID:-//CEEI Valencia//EmprenemJunts//ES
BEGIN:VEVENT
UID:Evento_14207
DTSTAMP:20181016T192634Z
DTSTART:20181115T171500Z
DTEND:20181115T193000Z
SUMMARY:Estado de la Realidad Virtual en 2018
DESCRIPTION:Punto de encuentro para profesionales de Realidad Virtual en la ciudad de Valencia.
LOCATION:Valencia (Valencia)
URL:https://ceeivalencia.emprenemjunts.es/?op=14&n=14207
GEO:39.458679;-0.338276
END:VEVENT
END:VCALENDAR
