BEGIN:VCALENDAR
VERSION:2.0
PRODID:-//Nacional//EmprenemJunts//ES
BEGIN:VEVENT
UID:Evento_1412
DTSTAMP:20100715T113000Z
DTSTART:20100715T113000Z
DTEND:20100715T121500Z
SUMMARY:Presentación del libro \"Marketing de acción\" de Juan Carlos Alcaide
DESCRIPTION:
LOCATION:Madrid
URL:https://emprenderycrecer.emprenemjunts.es/?op=14&n=1412
END:VEVENT
END:VCALENDAR
