BEGIN:VCALENDAR
VERSION:2.0
PRODID:-//CEEI Elche//EmprenemJunts//ES
BEGIN:VEVENT
UID:Evento_1385
DTSTAMP:20100706T073000Z
DTSTART:20100706T073000Z
DTEND:20100706T093000Z
SUMMARY:\"Tener éxito en tiempos de cambio. El cuadro de mando integral\". Jornada CEEI Elche.
DESCRIPTION:
LOCATION:03206 Elche
URL:https://ceeielche.emprenemjunts.es/?op=14&n=1385
END:VEVENT
END:VCALENDAR
